BEGIN:VCALENDAR
VERSION:2.0
PRODID:-//Meier&#039;s Creek Brewing Company - ECPv6.15.17.1//NONSGML v1.0//EN
CALSCALE:GREGORIAN
METHOD:PUBLISH
X-WR-CALNAME:Meier&#039;s Creek Brewing Company
X-ORIGINAL-URL:https://www.meierscreekbrewing.com
X-WR-CALDESC:Events for Meier&#039;s Creek Brewing Company
REFRESH-INTERVAL;VALUE=DURATION:PT1H
X-Robots-Tag:noindex
X-PUBLISHED-TTL:PT1H
BEGIN:VTIMEZONE
TZID:America/New_York
BEGIN:DAYLIGHT
TZOFFSETFROM:-0500
TZOFFSETTO:-0400
TZNAME:EDT
DTSTART:20250309T070000
END:DAYLIGHT
BEGIN:STANDARD
TZOFFSETFROM:-0400
TZOFFSETTO:-0500
TZNAME:EST
DTSTART:20251102T060000
END:STANDARD
BEGIN:DAYLIGHT
TZOFFSETFROM:-0500
TZOFFSETTO:-0400
TZNAME:EDT
DTSTART:20260308T070000
END:DAYLIGHT
BEGIN:STANDARD
TZOFFSETFROM:-0400
TZOFFSETTO:-0500
TZNAME:EST
DTSTART:20261101T060000
END:STANDARD
BEGIN:DAYLIGHT
TZOFFSETFROM:-0500
TZOFFSETTO:-0400
TZNAME:EDT
DTSTART:20270314T070000
END:DAYLIGHT
BEGIN:STANDARD
TZOFFSETFROM:-0400
TZOFFSETTO:-0500
TZNAME:EST
DTSTART:20271107T060000
END:STANDARD
END:VTIMEZONE
BEGIN:VEVENT
DTSTART;TZID=America/New_York:20260131T180000
DTEND;TZID=America/New_York:20260131T203000
DTSTAMP:20260422T080126
CREATED:20260112T200535Z
LAST-MODIFIED:20260112T200535Z
UID:10003427-1769882400-1769891400@www.meierscreekbrewing.com
SUMMARY:Meier's Movie Night
DESCRIPTION:Bueller? Bueller? Bueller? \nJoin us in the brewery for another movie night\, this time featuring Ferris Bueller’s Day Off! \n🎥 Saturday\, January 31🍻 Caz Farm Brewery⏰ 6PM start\n🍿 No tickets or RSVP needed!
URL:https://www.meierscreekbrewing.com/event/meiers-movie-night/
LOCATION:Cazenovia Farm Brewery
CATEGORIES:Movie Night
ATTACH;FMTTYPE=image/jpeg:https://www.meierscreekbrewing.com/wp-content/uploads/2026/01/MCBC_86969_Meiers-Creek_Movie-Night_IM23.jpg
END:VEVENT
END:VCALENDAR