BEGIN:VCALENDAR
VERSION:2.0
PRODID:-//Meier&#039;s Creek Brewing Company - ECPv6.15.17.1//NONSGML v1.0//EN
CALSCALE:GREGORIAN
METHOD:PUBLISH
X-ORIGINAL-URL:https://www.meierscreekbrewing.com
X-WR-CALDESC:Events for Meier&#039;s Creek Brewing Company
REFRESH-INTERVAL;VALUE=DURATION:PT1H
X-Robots-Tag:noindex
X-PUBLISHED-TTL:PT1H
BEGIN:VTIMEZONE
TZID:America/New_York
BEGIN:DAYLIGHT
TZOFFSETFROM:-0500
TZOFFSETTO:-0400
TZNAME:EDT
DTSTART:20250309T070000
END:DAYLIGHT
BEGIN:STANDARD
TZOFFSETFROM:-0400
TZOFFSETTO:-0500
TZNAME:EST
DTSTART:20251102T060000
END:STANDARD
BEGIN:DAYLIGHT
TZOFFSETFROM:-0500
TZOFFSETTO:-0400
TZNAME:EDT
DTSTART:20260308T070000
END:DAYLIGHT
BEGIN:STANDARD
TZOFFSETFROM:-0400
TZOFFSETTO:-0500
TZNAME:EST
DTSTART:20261101T060000
END:STANDARD
BEGIN:DAYLIGHT
TZOFFSETFROM:-0500
TZOFFSETTO:-0400
TZNAME:EDT
DTSTART:20270314T070000
END:DAYLIGHT
BEGIN:STANDARD
TZOFFSETFROM:-0400
TZOFFSETTO:-0500
TZNAME:EST
DTSTART:20271107T060000
END:STANDARD
END:VTIMEZONE
BEGIN:VEVENT
DTSTART;TZID=America/New_York:20260419T113000
DTEND;TZID=America/New_York:20260419T160000
DTSTAMP:20260422T075005
CREATED:20251121T201800Z
LAST-MODIFIED:20251121T202643Z
UID:10002593-1776598200-1776614400@www.meierscreekbrewing.com
SUMMARY:Sunday Brunch\, Inner Harbor
DESCRIPTION:Sunday plans? Solved. 🙌\nBrunch at Meier’s Creek is calling: killer plates\, cold pours\, zero stress.Bring your friends and make it a weekly ritual! \nBrunch menu available at the Inner Harbor Taproom – Sundays 11:30am-4:00pm.\nWe seat first-come\, first-served. No reservations required.
URL:https://www.meierscreekbrewing.com/event/sunday-brunch-inner-harbor/2026-04-19/
LOCATION:Inner Harbor Taproom\, 720 Van Rensselaer St.\, Syracuse\, NY\, United States
CATEGORIES:Local Events,Brunch
ATTACH;FMTTYPE=image/jpeg:https://www.meierscreekbrewing.com/wp-content/uploads/2025/11/2.jpg
END:VEVENT
BEGIN:VEVENT
DTSTART;TZID=America/New_York:20260419T110000
DTEND;TZID=America/New_York:20260419T160000
DTSTAMP:20260422T075005
CREATED:20251121T202031Z
LAST-MODIFIED:20251121T202654Z
UID:10003115-1776596400-1776614400@www.meierscreekbrewing.com
SUMMARY:Sunday Brunch\, Caz Farm Brewery
DESCRIPTION:Sunday plans? Solved. 🙌\nBrunch at Meier’s Creek is calling: killer plates\, cold pours\, zero stress.Bring your friends and make it a weekly ritual! \nBrunch menu available at the Caz Farm Brewery – Sundays 11am-4pm.\nWe seat first-come\, first-served. No reservations required.
URL:https://www.meierscreekbrewing.com/event/sunday-brunch-caz-farm-brewery/2026-04-19/
LOCATION:Cazenovia Farm Brewery
CATEGORIES:Local Events,Brunch
ATTACH;FMTTYPE=image/jpeg:https://www.meierscreekbrewing.com/wp-content/uploads/2025/11/1.jpg
END:VEVENT
BEGIN:VEVENT
DTSTART;TZID=America/New_York:20260412T113000
DTEND;TZID=America/New_York:20260412T160000
DTSTAMP:20260422T075005
CREATED:20251121T201800Z
LAST-MODIFIED:20251121T202643Z
UID:10002592-1775993400-1776009600@www.meierscreekbrewing.com
SUMMARY:Sunday Brunch\, Inner Harbor
DESCRIPTION:Sunday plans? Solved. 🙌\nBrunch at Meier’s Creek is calling: killer plates\, cold pours\, zero stress.Bring your friends and make it a weekly ritual! \nBrunch menu available at the Inner Harbor Taproom – Sundays 11:30am-4:00pm.\nWe seat first-come\, first-served. No reservations required.
URL:https://www.meierscreekbrewing.com/event/sunday-brunch-inner-harbor/2026-04-12/
LOCATION:Inner Harbor Taproom\, 720 Van Rensselaer St.\, Syracuse\, NY\, United States
CATEGORIES:Local Events,Brunch
ATTACH;FMTTYPE=image/jpeg:https://www.meierscreekbrewing.com/wp-content/uploads/2025/11/2.jpg
END:VEVENT
BEGIN:VEVENT
DTSTART;TZID=America/New_York:20260412T110000
DTEND;TZID=America/New_York:20260412T160000
DTSTAMP:20260422T075005
CREATED:20251121T202031Z
LAST-MODIFIED:20251121T202654Z
UID:10003114-1775991600-1776009600@www.meierscreekbrewing.com
SUMMARY:Sunday Brunch\, Caz Farm Brewery
DESCRIPTION:Sunday plans? Solved. 🙌\nBrunch at Meier’s Creek is calling: killer plates\, cold pours\, zero stress.Bring your friends and make it a weekly ritual! \nBrunch menu available at the Caz Farm Brewery – Sundays 11am-4pm.\nWe seat first-come\, first-served. No reservations required.
URL:https://www.meierscreekbrewing.com/event/sunday-brunch-caz-farm-brewery/2026-04-12/
LOCATION:Cazenovia Farm Brewery
CATEGORIES:Local Events,Brunch
ATTACH;FMTTYPE=image/jpeg:https://www.meierscreekbrewing.com/wp-content/uploads/2025/11/1.jpg
END:VEVENT
BEGIN:VEVENT
DTSTART;TZID=America/New_York:20260405T113000
DTEND;TZID=America/New_York:20260405T160000
DTSTAMP:20260422T075005
CREATED:20251121T201800Z
LAST-MODIFIED:20251121T202643Z
UID:10002591-1775388600-1775404800@www.meierscreekbrewing.com
SUMMARY:Sunday Brunch\, Inner Harbor
DESCRIPTION:Sunday plans? Solved. 🙌\nBrunch at Meier’s Creek is calling: killer plates\, cold pours\, zero stress.Bring your friends and make it a weekly ritual! \nBrunch menu available at the Inner Harbor Taproom – Sundays 11:30am-4:00pm.\nWe seat first-come\, first-served. No reservations required.
URL:https://www.meierscreekbrewing.com/event/sunday-brunch-inner-harbor/2026-04-05/
LOCATION:Inner Harbor Taproom\, 720 Van Rensselaer St.\, Syracuse\, NY\, United States
CATEGORIES:Local Events,Brunch
ATTACH;FMTTYPE=image/jpeg:https://www.meierscreekbrewing.com/wp-content/uploads/2025/11/2.jpg
END:VEVENT
BEGIN:VEVENT
DTSTART;TZID=America/New_York:20260405T110000
DTEND;TZID=America/New_York:20260405T160000
DTSTAMP:20260422T075005
CREATED:20260309T145224Z
LAST-MODIFIED:20260309T145224Z
UID:10003520-1775386800-1775404800@www.meierscreekbrewing.com
SUMMARY:Easter Sunday Brunch
DESCRIPTION:Celebrate Easter weekend with family\, friends\, and plenty of springtime fun at Meier’s Creek Brewing Company! 🌷🐣 \nSaturday – Join us at the Cazenovia Farm Brewery for our annual Easter Egg Hunt on Saturday\, April 4 at 11AM. Kids can explore the grounds searching for colorful eggs hidden all around the brewery—just be sure to hop over early\, because the hunt begins at the main entrance and each child can collect up to 10 eggs! It’s a festive\, family-friendly morning full of excitement\, laughter\, and a little friendly competition. \nSunday – The celebration continues on Easter Sunday\, April 5 with a special Easter Brunch from 11AM–4PM\, with live music 12-3pm. Bring the whole family to enjoy delicious food and great drinks!\nWhether you’re hunting for eggs\, gathering for brunch\, or just enjoying a spring day at the farm brewery\, it’s the perfect way to celebrate Easter together. 🌼 Let’s hop to it! 🍻
URL:https://www.meierscreekbrewing.com/event/easter-sunday-brunch/
LOCATION:Cazenovia Farm Brewery
CATEGORIES:Holidays,Brunch
ATTACH;FMTTYPE=image/jpeg:https://www.meierscreekbrewing.com/wp-content/uploads/2026/03/MCBC_88195_Easter-Egg-Hunt-2026_SN_1200-x-628.jpg
END:VEVENT
BEGIN:VEVENT
DTSTART;TZID=America/New_York:20260405T110000
DTEND;TZID=America/New_York:20260405T160000
DTSTAMP:20260422T075005
CREATED:20251121T202031Z
LAST-MODIFIED:20251121T202654Z
UID:10003113-1775386800-1775404800@www.meierscreekbrewing.com
SUMMARY:Sunday Brunch\, Caz Farm Brewery
DESCRIPTION:Sunday plans? Solved. 🙌\nBrunch at Meier’s Creek is calling: killer plates\, cold pours\, zero stress.Bring your friends and make it a weekly ritual! \nBrunch menu available at the Caz Farm Brewery – Sundays 11am-4pm.\nWe seat first-come\, first-served. No reservations required.
URL:https://www.meierscreekbrewing.com/event/sunday-brunch-caz-farm-brewery/2026-04-05/
LOCATION:Cazenovia Farm Brewery
CATEGORIES:Local Events,Brunch
ATTACH;FMTTYPE=image/jpeg:https://www.meierscreekbrewing.com/wp-content/uploads/2025/11/1.jpg
END:VEVENT
BEGIN:VEVENT
DTSTART;TZID=America/New_York:20260404T103000
DTEND;TZID=America/New_York:20260404T200000
DTSTAMP:20260422T075005
CREATED:20260309T145124Z
LAST-MODIFIED:20260309T145124Z
UID:10003519-1775298600-1775332800@www.meierscreekbrewing.com
SUMMARY:Easter Egg Hunt
DESCRIPTION:Celebrate Easter weekend with family\, friends\, and plenty of springtime fun at Meier’s Creek Brewing Company! 🌷🐣 \nSaturday – Join us at the Cazenovia Farm Brewery for our annual Easter Egg Hunt on Saturday\, April 4 at 11AM. Kids can explore the grounds searching for colorful eggs hidden all around the brewery—just be sure to hop over early\, because the hunt begins at the main entrance and each child can collect up to 10 eggs! It’s a festive\, family-friendly morning full of excitement\, laughter\, and a little friendly competition. \n\nDoors and bar open at 10:30\nHunt is at 11am\nKitchen will open at 11:30am\, as usual!\nThe Easter Bunny will be around for $5 photos at noon.\nLater in the evening\, keep the good vibes going with live music from Jay & The Tie Dyers in the Cellar from 5–8PM.\n\nSunday – The celebration continues on Easter Sunday\, April 5 with a special Easter Brunch from 11AM–4PM\, with live music 12-3pm. Bring the whole family to enjoy delicious food and great drinks! \nWhether you’re hunting for eggs\, gathering for brunch\, or just enjoying a spring day at the farm brewery\, it’s the perfect way to celebrate Easter together. 🌼 Let’s hop to it! 🍻
URL:https://www.meierscreekbrewing.com/event/easter-egg-hunt/
LOCATION:Cazenovia Farm Brewery
CATEGORIES:Holidays,Local Events,Brunch
ATTACH;FMTTYPE=image/jpeg:https://www.meierscreekbrewing.com/wp-content/uploads/2026/03/MCBC_88195_Easter-Egg-Hunt-2026_SN_1200-x-628.jpg
END:VEVENT
BEGIN:VEVENT
DTSTART;TZID=America/New_York:20260329T113000
DTEND;TZID=America/New_York:20260329T160000
DTSTAMP:20260422T075005
CREATED:20251121T201800Z
LAST-MODIFIED:20251121T202643Z
UID:10002590-1774783800-1774800000@www.meierscreekbrewing.com
SUMMARY:Sunday Brunch\, Inner Harbor
DESCRIPTION:Sunday plans? Solved. 🙌\nBrunch at Meier’s Creek is calling: killer plates\, cold pours\, zero stress.Bring your friends and make it a weekly ritual! \nBrunch menu available at the Inner Harbor Taproom – Sundays 11:30am-4:00pm.\nWe seat first-come\, first-served. No reservations required.
URL:https://www.meierscreekbrewing.com/event/sunday-brunch-inner-harbor/2026-03-29/
LOCATION:Inner Harbor Taproom\, 720 Van Rensselaer St.\, Syracuse\, NY\, United States
CATEGORIES:Local Events,Brunch
ATTACH;FMTTYPE=image/jpeg:https://www.meierscreekbrewing.com/wp-content/uploads/2025/11/2.jpg
END:VEVENT
BEGIN:VEVENT
DTSTART;TZID=America/New_York:20260329T110000
DTEND;TZID=America/New_York:20260329T160000
DTSTAMP:20260422T075005
CREATED:20251121T202031Z
LAST-MODIFIED:20251121T202654Z
UID:10003112-1774782000-1774800000@www.meierscreekbrewing.com
SUMMARY:Sunday Brunch\, Caz Farm Brewery
DESCRIPTION:Sunday plans? Solved. 🙌\nBrunch at Meier’s Creek is calling: killer plates\, cold pours\, zero stress.Bring your friends and make it a weekly ritual! \nBrunch menu available at the Caz Farm Brewery – Sundays 11am-4pm.\nWe seat first-come\, first-served. No reservations required.
URL:https://www.meierscreekbrewing.com/event/sunday-brunch-caz-farm-brewery/2026-03-29/
LOCATION:Cazenovia Farm Brewery
CATEGORIES:Local Events,Brunch
ATTACH;FMTTYPE=image/jpeg:https://www.meierscreekbrewing.com/wp-content/uploads/2025/11/1.jpg
END:VEVENT
BEGIN:VEVENT
DTSTART;TZID=America/New_York:20260322T113000
DTEND;TZID=America/New_York:20260322T160000
DTSTAMP:20260422T075005
CREATED:20251121T201800Z
LAST-MODIFIED:20251121T202643Z
UID:10002589-1774179000-1774195200@www.meierscreekbrewing.com
SUMMARY:Sunday Brunch\, Inner Harbor
DESCRIPTION:Sunday plans? Solved. 🙌\nBrunch at Meier’s Creek is calling: killer plates\, cold pours\, zero stress.Bring your friends and make it a weekly ritual! \nBrunch menu available at the Inner Harbor Taproom – Sundays 11:30am-4:00pm.\nWe seat first-come\, first-served. No reservations required.
URL:https://www.meierscreekbrewing.com/event/sunday-brunch-inner-harbor/2026-03-22/
LOCATION:Inner Harbor Taproom\, 720 Van Rensselaer St.\, Syracuse\, NY\, United States
CATEGORIES:Local Events,Brunch
ATTACH;FMTTYPE=image/jpeg:https://www.meierscreekbrewing.com/wp-content/uploads/2025/11/2.jpg
END:VEVENT
BEGIN:VEVENT
DTSTART;TZID=America/New_York:20260322T110000
DTEND;TZID=America/New_York:20260322T160000
DTSTAMP:20260422T075005
CREATED:20251121T202031Z
LAST-MODIFIED:20251121T202654Z
UID:10003111-1774177200-1774195200@www.meierscreekbrewing.com
SUMMARY:Sunday Brunch\, Caz Farm Brewery
DESCRIPTION:Sunday plans? Solved. 🙌\nBrunch at Meier’s Creek is calling: killer plates\, cold pours\, zero stress.Bring your friends and make it a weekly ritual! \nBrunch menu available at the Caz Farm Brewery – Sundays 11am-4pm.\nWe seat first-come\, first-served. No reservations required.
URL:https://www.meierscreekbrewing.com/event/sunday-brunch-caz-farm-brewery/2026-03-22/
LOCATION:Cazenovia Farm Brewery
CATEGORIES:Local Events,Brunch
ATTACH;FMTTYPE=image/jpeg:https://www.meierscreekbrewing.com/wp-content/uploads/2025/11/1.jpg
END:VEVENT
BEGIN:VEVENT
DTSTART;TZID=America/New_York:20260315T113000
DTEND;TZID=America/New_York:20260315T160000
DTSTAMP:20260422T075005
CREATED:20251121T201800Z
LAST-MODIFIED:20251121T202643Z
UID:10002588-1773574200-1773590400@www.meierscreekbrewing.com
SUMMARY:Sunday Brunch\, Inner Harbor
DESCRIPTION:Sunday plans? Solved. 🙌\nBrunch at Meier’s Creek is calling: killer plates\, cold pours\, zero stress.Bring your friends and make it a weekly ritual! \nBrunch menu available at the Inner Harbor Taproom – Sundays 11:30am-4:00pm.\nWe seat first-come\, first-served. No reservations required.
URL:https://www.meierscreekbrewing.com/event/sunday-brunch-inner-harbor/2026-03-15/
LOCATION:Inner Harbor Taproom\, 720 Van Rensselaer St.\, Syracuse\, NY\, United States
CATEGORIES:Local Events,Brunch
ATTACH;FMTTYPE=image/jpeg:https://www.meierscreekbrewing.com/wp-content/uploads/2025/11/2.jpg
END:VEVENT
BEGIN:VEVENT
DTSTART;TZID=America/New_York:20260315T110000
DTEND;TZID=America/New_York:20260315T160000
DTSTAMP:20260422T075005
CREATED:20251121T202031Z
LAST-MODIFIED:20251121T202654Z
UID:10003110-1773572400-1773590400@www.meierscreekbrewing.com
SUMMARY:Sunday Brunch\, Caz Farm Brewery
DESCRIPTION:Sunday plans? Solved. 🙌\nBrunch at Meier’s Creek is calling: killer plates\, cold pours\, zero stress.Bring your friends and make it a weekly ritual! \nBrunch menu available at the Caz Farm Brewery – Sundays 11am-4pm.\nWe seat first-come\, first-served. No reservations required.
URL:https://www.meierscreekbrewing.com/event/sunday-brunch-caz-farm-brewery/2026-03-15/
LOCATION:Cazenovia Farm Brewery
CATEGORIES:Local Events,Brunch
ATTACH;FMTTYPE=image/jpeg:https://www.meierscreekbrewing.com/wp-content/uploads/2025/11/1.jpg
END:VEVENT
BEGIN:VEVENT
DTSTART;TZID=America/New_York:20260308T113000
DTEND;TZID=America/New_York:20260308T160000
DTSTAMP:20260422T075005
CREATED:20251121T201800Z
LAST-MODIFIED:20251121T202643Z
UID:10002587-1772969400-1772985600@www.meierscreekbrewing.com
SUMMARY:Sunday Brunch\, Inner Harbor
DESCRIPTION:Sunday plans? Solved. 🙌\nBrunch at Meier’s Creek is calling: killer plates\, cold pours\, zero stress.Bring your friends and make it a weekly ritual! \nBrunch menu available at the Inner Harbor Taproom – Sundays 11:30am-4:00pm.\nWe seat first-come\, first-served. No reservations required.
URL:https://www.meierscreekbrewing.com/event/sunday-brunch-inner-harbor/2026-03-08/
LOCATION:Inner Harbor Taproom\, 720 Van Rensselaer St.\, Syracuse\, NY\, United States
CATEGORIES:Local Events,Brunch
ATTACH;FMTTYPE=image/jpeg:https://www.meierscreekbrewing.com/wp-content/uploads/2025/11/2.jpg
END:VEVENT
BEGIN:VEVENT
DTSTART;TZID=America/New_York:20260308T110000
DTEND;TZID=America/New_York:20260308T160000
DTSTAMP:20260422T075005
CREATED:20251121T202031Z
LAST-MODIFIED:20251121T202654Z
UID:10003109-1772967600-1772985600@www.meierscreekbrewing.com
SUMMARY:Sunday Brunch\, Caz Farm Brewery
DESCRIPTION:Sunday plans? Solved. 🙌\nBrunch at Meier’s Creek is calling: killer plates\, cold pours\, zero stress.Bring your friends and make it a weekly ritual! \nBrunch menu available at the Caz Farm Brewery – Sundays 11am-4pm.\nWe seat first-come\, first-served. No reservations required.
URL:https://www.meierscreekbrewing.com/event/sunday-brunch-caz-farm-brewery/2026-03-08/
LOCATION:Cazenovia Farm Brewery
CATEGORIES:Local Events,Brunch
ATTACH;FMTTYPE=image/jpeg:https://www.meierscreekbrewing.com/wp-content/uploads/2025/11/1.jpg
END:VEVENT
BEGIN:VEVENT
DTSTART;TZID=America/New_York:20260301T113000
DTEND;TZID=America/New_York:20260301T160000
DTSTAMP:20260422T075005
CREATED:20251121T201800Z
LAST-MODIFIED:20251121T202643Z
UID:10002586-1772364600-1772380800@www.meierscreekbrewing.com
SUMMARY:Sunday Brunch\, Inner Harbor
DESCRIPTION:Sunday plans? Solved. 🙌\nBrunch at Meier’s Creek is calling: killer plates\, cold pours\, zero stress.Bring your friends and make it a weekly ritual! \nBrunch menu available at the Inner Harbor Taproom – Sundays 11:30am-4:00pm.\nWe seat first-come\, first-served. No reservations required.
URL:https://www.meierscreekbrewing.com/event/sunday-brunch-inner-harbor/2026-03-01/
LOCATION:Inner Harbor Taproom\, 720 Van Rensselaer St.\, Syracuse\, NY\, United States
CATEGORIES:Local Events,Brunch
ATTACH;FMTTYPE=image/jpeg:https://www.meierscreekbrewing.com/wp-content/uploads/2025/11/2.jpg
END:VEVENT
BEGIN:VEVENT
DTSTART;TZID=America/New_York:20260301T110000
DTEND;TZID=America/New_York:20260301T160000
DTSTAMP:20260422T075005
CREATED:20251121T202031Z
LAST-MODIFIED:20251121T202654Z
UID:10003108-1772362800-1772380800@www.meierscreekbrewing.com
SUMMARY:Sunday Brunch\, Caz Farm Brewery
DESCRIPTION:Sunday plans? Solved. 🙌\nBrunch at Meier’s Creek is calling: killer plates\, cold pours\, zero stress.Bring your friends and make it a weekly ritual! \nBrunch menu available at the Caz Farm Brewery – Sundays 11am-4pm.\nWe seat first-come\, first-served. No reservations required.
URL:https://www.meierscreekbrewing.com/event/sunday-brunch-caz-farm-brewery/2026-03-01/
LOCATION:Cazenovia Farm Brewery
CATEGORIES:Local Events,Brunch
ATTACH;FMTTYPE=image/jpeg:https://www.meierscreekbrewing.com/wp-content/uploads/2025/11/1.jpg
END:VEVENT
BEGIN:VEVENT
DTSTART;TZID=America/New_York:20260222T113000
DTEND;TZID=America/New_York:20260222T160000
DTSTAMP:20260422T075005
CREATED:20251121T201800Z
LAST-MODIFIED:20251121T202643Z
UID:10002585-1771759800-1771776000@www.meierscreekbrewing.com
SUMMARY:Sunday Brunch\, Inner Harbor
DESCRIPTION:Sunday plans? Solved. 🙌\nBrunch at Meier’s Creek is calling: killer plates\, cold pours\, zero stress.Bring your friends and make it a weekly ritual! \nBrunch menu available at the Inner Harbor Taproom – Sundays 11:30am-4:00pm.\nWe seat first-come\, first-served. No reservations required.
URL:https://www.meierscreekbrewing.com/event/sunday-brunch-inner-harbor/2026-02-22/
LOCATION:Inner Harbor Taproom\, 720 Van Rensselaer St.\, Syracuse\, NY\, United States
CATEGORIES:Local Events,Brunch
ATTACH;FMTTYPE=image/jpeg:https://www.meierscreekbrewing.com/wp-content/uploads/2025/11/2.jpg
END:VEVENT
BEGIN:VEVENT
DTSTART;TZID=America/New_York:20260222T110000
DTEND;TZID=America/New_York:20260222T160000
DTSTAMP:20260422T075005
CREATED:20251121T202031Z
LAST-MODIFIED:20251121T202654Z
UID:10003107-1771758000-1771776000@www.meierscreekbrewing.com
SUMMARY:Sunday Brunch\, Caz Farm Brewery
DESCRIPTION:Sunday plans? Solved. 🙌\nBrunch at Meier’s Creek is calling: killer plates\, cold pours\, zero stress.Bring your friends and make it a weekly ritual! \nBrunch menu available at the Caz Farm Brewery – Sundays 11am-4pm.\nWe seat first-come\, first-served. No reservations required.
URL:https://www.meierscreekbrewing.com/event/sunday-brunch-caz-farm-brewery/2026-02-22/
LOCATION:Cazenovia Farm Brewery
CATEGORIES:Local Events,Brunch
ATTACH;FMTTYPE=image/jpeg:https://www.meierscreekbrewing.com/wp-content/uploads/2025/11/1.jpg
END:VEVENT
BEGIN:VEVENT
DTSTART;TZID=America/New_York:20260222T080000
DTEND;TZID=America/New_York:20260222T113000
DTSTAMP:20260422T075005
CREATED:20260221T172122Z
LAST-MODIFIED:20260221T172122Z
UID:10003474-1771747200-1771759800@www.meierscreekbrewing.com
SUMMARY:Inner Harbor Open for USA vs Canada
DESCRIPTION:Kick off your Sunday with some USA pride at the Inner Harbor Taproom! 🇺🇸🍻 \nWe’re opening early at 8AM on Sunday\, Feb. 22 for the ultimate showdown — USA vs. Canada. Start your morning strong with brunch favorites\, fresh pints\, and a taproom full of red\, white\, and blue energy. \nGrab your crew\, wear your colors\, and settle in for every big moment on the big screens. From first whistle to final buzzer\, we’re cheering loud and proud for Team USA. \nBrunch. Beer. Big game. Let’s make it a Sunday worth celebrating.
URL:https://www.meierscreekbrewing.com/event/inner-harbor-open-for-usa-vs-canada/
LOCATION:Inner Harbor Taproom\, 720 Van Rensselaer St.\, Syracuse\, NY\, United States
CATEGORIES:Local Events,Brunch
ATTACH;FMTTYPE=image/jpeg:https://www.meierscreekbrewing.com/wp-content/uploads/2026/02/2.jpg
END:VEVENT
BEGIN:VEVENT
DTSTART;TZID=America/New_York:20260215T113000
DTEND;TZID=America/New_York:20260215T160000
DTSTAMP:20260422T075005
CREATED:20251121T201800Z
LAST-MODIFIED:20251121T202643Z
UID:10002584-1771155000-1771171200@www.meierscreekbrewing.com
SUMMARY:Sunday Brunch\, Inner Harbor
DESCRIPTION:Sunday plans? Solved. 🙌\nBrunch at Meier’s Creek is calling: killer plates\, cold pours\, zero stress.Bring your friends and make it a weekly ritual! \nBrunch menu available at the Inner Harbor Taproom – Sundays 11:30am-4:00pm.\nWe seat first-come\, first-served. No reservations required.
URL:https://www.meierscreekbrewing.com/event/sunday-brunch-inner-harbor/2026-02-15/
LOCATION:Inner Harbor Taproom\, 720 Van Rensselaer St.\, Syracuse\, NY\, United States
CATEGORIES:Local Events,Brunch
ATTACH;FMTTYPE=image/jpeg:https://www.meierscreekbrewing.com/wp-content/uploads/2025/11/2.jpg
END:VEVENT
BEGIN:VEVENT
DTSTART;TZID=America/New_York:20260215T110000
DTEND;TZID=America/New_York:20260215T160000
DTSTAMP:20260422T075005
CREATED:20251121T202031Z
LAST-MODIFIED:20251121T202654Z
UID:10003106-1771153200-1771171200@www.meierscreekbrewing.com
SUMMARY:Sunday Brunch\, Caz Farm Brewery
DESCRIPTION:Sunday plans? Solved. 🙌\nBrunch at Meier’s Creek is calling: killer plates\, cold pours\, zero stress.Bring your friends and make it a weekly ritual! \nBrunch menu available at the Caz Farm Brewery – Sundays 11am-4pm.\nWe seat first-come\, first-served. No reservations required.
URL:https://www.meierscreekbrewing.com/event/sunday-brunch-caz-farm-brewery/2026-02-15/
LOCATION:Cazenovia Farm Brewery
CATEGORIES:Local Events,Brunch
ATTACH;FMTTYPE=image/jpeg:https://www.meierscreekbrewing.com/wp-content/uploads/2025/11/1.jpg
END:VEVENT
BEGIN:VEVENT
DTSTART;TZID=America/New_York:20260208T113000
DTEND;TZID=America/New_York:20260208T160000
DTSTAMP:20260422T075005
CREATED:20251121T201800Z
LAST-MODIFIED:20251121T202643Z
UID:10002583-1770550200-1770566400@www.meierscreekbrewing.com
SUMMARY:Sunday Brunch\, Inner Harbor
DESCRIPTION:Sunday plans? Solved. 🙌\nBrunch at Meier’s Creek is calling: killer plates\, cold pours\, zero stress.Bring your friends and make it a weekly ritual! \nBrunch menu available at the Inner Harbor Taproom – Sundays 11:30am-4:00pm.\nWe seat first-come\, first-served. No reservations required.
URL:https://www.meierscreekbrewing.com/event/sunday-brunch-inner-harbor/2026-02-08/
LOCATION:Inner Harbor Taproom\, 720 Van Rensselaer St.\, Syracuse\, NY\, United States
CATEGORIES:Local Events,Brunch
ATTACH;FMTTYPE=image/jpeg:https://www.meierscreekbrewing.com/wp-content/uploads/2025/11/2.jpg
END:VEVENT
BEGIN:VEVENT
DTSTART;TZID=America/New_York:20260208T110000
DTEND;TZID=America/New_York:20260208T160000
DTSTAMP:20260422T075005
CREATED:20251121T202031Z
LAST-MODIFIED:20251121T202654Z
UID:10003105-1770548400-1770566400@www.meierscreekbrewing.com
SUMMARY:Sunday Brunch\, Caz Farm Brewery
DESCRIPTION:Sunday plans? Solved. 🙌\nBrunch at Meier’s Creek is calling: killer plates\, cold pours\, zero stress.Bring your friends and make it a weekly ritual! \nBrunch menu available at the Caz Farm Brewery – Sundays 11am-4pm.\nWe seat first-come\, first-served. No reservations required.
URL:https://www.meierscreekbrewing.com/event/sunday-brunch-caz-farm-brewery/2026-02-08/
LOCATION:Cazenovia Farm Brewery
CATEGORIES:Local Events,Brunch
ATTACH;FMTTYPE=image/jpeg:https://www.meierscreekbrewing.com/wp-content/uploads/2025/11/1.jpg
END:VEVENT
BEGIN:VEVENT
DTSTART;TZID=America/New_York:20260201T113000
DTEND;TZID=America/New_York:20260201T160000
DTSTAMP:20260422T075005
CREATED:20251121T201800Z
LAST-MODIFIED:20251121T202643Z
UID:10002582-1769945400-1769961600@www.meierscreekbrewing.com
SUMMARY:Sunday Brunch\, Inner Harbor
DESCRIPTION:Sunday plans? Solved. 🙌\nBrunch at Meier’s Creek is calling: killer plates\, cold pours\, zero stress.Bring your friends and make it a weekly ritual! \nBrunch menu available at the Inner Harbor Taproom – Sundays 11:30am-4:00pm.\nWe seat first-come\, first-served. No reservations required.
URL:https://www.meierscreekbrewing.com/event/sunday-brunch-inner-harbor/2026-02-01/
LOCATION:Inner Harbor Taproom\, 720 Van Rensselaer St.\, Syracuse\, NY\, United States
CATEGORIES:Local Events,Brunch
ATTACH;FMTTYPE=image/jpeg:https://www.meierscreekbrewing.com/wp-content/uploads/2025/11/2.jpg
END:VEVENT
BEGIN:VEVENT
DTSTART;TZID=America/New_York:20260201T110000
DTEND;TZID=America/New_York:20260201T160000
DTSTAMP:20260422T075005
CREATED:20251121T202031Z
LAST-MODIFIED:20251121T202654Z
UID:10003104-1769943600-1769961600@www.meierscreekbrewing.com
SUMMARY:Sunday Brunch\, Caz Farm Brewery
DESCRIPTION:Sunday plans? Solved. 🙌\nBrunch at Meier’s Creek is calling: killer plates\, cold pours\, zero stress.Bring your friends and make it a weekly ritual! \nBrunch menu available at the Caz Farm Brewery – Sundays 11am-4pm.\nWe seat first-come\, first-served. No reservations required.
URL:https://www.meierscreekbrewing.com/event/sunday-brunch-caz-farm-brewery/2026-02-01/
LOCATION:Cazenovia Farm Brewery
CATEGORIES:Local Events,Brunch
ATTACH;FMTTYPE=image/jpeg:https://www.meierscreekbrewing.com/wp-content/uploads/2025/11/1.jpg
END:VEVENT
BEGIN:VEVENT
DTSTART;TZID=America/New_York:20260125T113000
DTEND;TZID=America/New_York:20260125T160000
DTSTAMP:20260422T075005
CREATED:20251121T201800Z
LAST-MODIFIED:20251121T202643Z
UID:10002581-1769340600-1769356800@www.meierscreekbrewing.com
SUMMARY:Sunday Brunch\, Inner Harbor
DESCRIPTION:Sunday plans? Solved. 🙌\nBrunch at Meier’s Creek is calling: killer plates\, cold pours\, zero stress.Bring your friends and make it a weekly ritual! \nBrunch menu available at the Inner Harbor Taproom – Sundays 11:30am-4:00pm.\nWe seat first-come\, first-served. No reservations required.
URL:https://www.meierscreekbrewing.com/event/sunday-brunch-inner-harbor/2026-01-25/
LOCATION:Inner Harbor Taproom\, 720 Van Rensselaer St.\, Syracuse\, NY\, United States
CATEGORIES:Local Events,Brunch
ATTACH;FMTTYPE=image/jpeg:https://www.meierscreekbrewing.com/wp-content/uploads/2025/11/2.jpg
END:VEVENT
BEGIN:VEVENT
DTSTART;TZID=America/New_York:20260125T110000
DTEND;TZID=America/New_York:20260125T160000
DTSTAMP:20260422T075005
CREATED:20260112T191030Z
LAST-MODIFIED:20260113T124438Z
UID:10003426-1769338800-1769356800@www.meierscreekbrewing.com
SUMMARY:Chili Fest: Grand Finale
DESCRIPTION:🌶️🔥 Chili Fest Sunday at Meier’s Creek 🔥🌶️📅 Sunday\, January 25📍 Cazenovia Farm Brewery \nWe’re turning up the heat to close out Chili Fest with a full day of winter fun\, community\, and celebration at Meier’s Creek! \nThe day kicks off with the Chilly Chili 5K Race (Meier’s Creek is a proud sponsor!). Runners and supporters are invited to keep the party going with a post-race celebration at the Caz Farm Brewery—because nothing pairs better with a finish line than chili and a cold beer 🏃‍♂️🍻 \nAt 12PM\, bundle up and join us for Snowshoe Sunday with Caz Preservation Foundation\, followed by live music from 12–3PM featuring Sydney Irving\, setting the perfect soundtrack for a cozy\, yet high-energy afternoon. \nOf course\, chili specials will be flowing all day\, as we celebrate the final day of Chili Fest! (Today’s features: Cup or bowl of chili\, Chili Cheese Fries\, and Chili Sloppy Joe!) \nCome for the race\, stay for the music\, the chili\, and the good vibes—Sunday is the Chili Fest grand finale you won’t want to miss. 🌶️❄️🍺
URL:https://www.meierscreekbrewing.com/event/chili-fest-grand-finale/
LOCATION:Cazenovia Farm Brewery
CATEGORIES:Taproom Sets,Local Events,Snowshoe Sundays,Brunch
ATTACH;FMTTYPE=image/jpeg:https://www.meierscreekbrewing.com/wp-content/uploads/2026/01/MCBC_86830_Chili-Fest-Weekend_SN_1200-x-6302.jpg
END:VEVENT
BEGIN:VEVENT
DTSTART;TZID=America/New_York:20260125T110000
DTEND;TZID=America/New_York:20260125T160000
DTSTAMP:20260422T075005
CREATED:20251121T202031Z
LAST-MODIFIED:20251121T202654Z
UID:10003103-1769338800-1769356800@www.meierscreekbrewing.com
SUMMARY:Sunday Brunch\, Caz Farm Brewery
DESCRIPTION:Sunday plans? Solved. 🙌\nBrunch at Meier’s Creek is calling: killer plates\, cold pours\, zero stress.Bring your friends and make it a weekly ritual! \nBrunch menu available at the Caz Farm Brewery – Sundays 11am-4pm.\nWe seat first-come\, first-served. No reservations required.
URL:https://www.meierscreekbrewing.com/event/sunday-brunch-caz-farm-brewery/2026-01-25/
LOCATION:Cazenovia Farm Brewery
CATEGORIES:Local Events,Brunch
ATTACH;FMTTYPE=image/jpeg:https://www.meierscreekbrewing.com/wp-content/uploads/2025/11/1.jpg
END:VEVENT
END:VCALENDAR