BEGIN:VCALENDAR
VERSION:2.0
PRODID:-//Meier&#039;s Creek Brewing Company - ECPv6.15.17.1//NONSGML v1.0//EN
CALSCALE:GREGORIAN
METHOD:PUBLISH
X-WR-CALNAME:Meier&#039;s Creek Brewing Company
X-ORIGINAL-URL:https://www.meierscreekbrewing.com
X-WR-CALDESC:Events for Meier&#039;s Creek Brewing Company
REFRESH-INTERVAL;VALUE=DURATION:PT1H
X-Robots-Tag:noindex
X-PUBLISHED-TTL:PT1H
BEGIN:VTIMEZONE
TZID:America/New_York
BEGIN:DAYLIGHT
TZOFFSETFROM:-0500
TZOFFSETTO:-0400
TZNAME:EDT
DTSTART:20250309T070000
END:DAYLIGHT
BEGIN:STANDARD
TZOFFSETFROM:-0400
TZOFFSETTO:-0500
TZNAME:EST
DTSTART:20251102T060000
END:STANDARD
BEGIN:DAYLIGHT
TZOFFSETFROM:-0500
TZOFFSETTO:-0400
TZNAME:EDT
DTSTART:20260308T070000
END:DAYLIGHT
BEGIN:STANDARD
TZOFFSETFROM:-0400
TZOFFSETTO:-0500
TZNAME:EST
DTSTART:20261101T060000
END:STANDARD
BEGIN:DAYLIGHT
TZOFFSETFROM:-0500
TZOFFSETTO:-0400
TZNAME:EDT
DTSTART:20270314T070000
END:DAYLIGHT
BEGIN:STANDARD
TZOFFSETFROM:-0400
TZOFFSETTO:-0500
TZNAME:EST
DTSTART:20271107T060000
END:STANDARD
END:VTIMEZONE
BEGIN:VEVENT
DTSTART;TZID=America/New_York:20260607T110000
DTEND;TZID=America/New_York:20260607T160000
DTSTAMP:20260422T110410
CREATED:20251121T202031Z
LAST-MODIFIED:20251121T202654Z
UID:10003122-1780830000-1780848000@www.meierscreekbrewing.com
SUMMARY:Sunday Brunch\, Caz Farm Brewery
DESCRIPTION:Sunday plans? Solved. 🙌\nBrunch at Meier’s Creek is calling: killer plates\, cold pours\, zero stress.Bring your friends and make it a weekly ritual! \nBrunch menu available at the Caz Farm Brewery – Sundays 11am-4pm.\nWe seat first-come\, first-served. No reservations required.
URL:https://www.meierscreekbrewing.com/event/sunday-brunch-caz-farm-brewery/2026-06-07/
LOCATION:Cazenovia Farm Brewery
CATEGORIES:Local Events,Brunch
ATTACH;FMTTYPE=image/jpeg:https://www.meierscreekbrewing.com/wp-content/uploads/2025/11/1.jpg
END:VEVENT
BEGIN:VEVENT
DTSTART;TZID=America/New_York:20260607T113000
DTEND;TZID=America/New_York:20260607T160000
DTSTAMP:20260422T110410
CREATED:20251121T201800Z
LAST-MODIFIED:20251121T202643Z
UID:10002600-1780831800-1780848000@www.meierscreekbrewing.com
SUMMARY:Sunday Brunch\, Inner Harbor
DESCRIPTION:Sunday plans? Solved. 🙌\nBrunch at Meier’s Creek is calling: killer plates\, cold pours\, zero stress.Bring your friends and make it a weekly ritual! \nBrunch menu available at the Inner Harbor Taproom – Sundays 11:30am-4:00pm.\nWe seat first-come\, first-served. No reservations required.
URL:https://www.meierscreekbrewing.com/event/sunday-brunch-inner-harbor/2026-06-07/
LOCATION:Inner Harbor Taproom\, 720 Van Rensselaer St.\, Syracuse\, NY\, United States
CATEGORIES:Local Events,Brunch
ATTACH;FMTTYPE=image/jpeg:https://www.meierscreekbrewing.com/wp-content/uploads/2025/11/2.jpg
END:VEVENT
BEGIN:VEVENT
DTSTART;TZID=America/New_York:20260614T110000
DTEND;TZID=America/New_York:20260614T160000
DTSTAMP:20260422T110410
CREATED:20251121T202031Z
LAST-MODIFIED:20251121T202654Z
UID:10003123-1781434800-1781452800@www.meierscreekbrewing.com
SUMMARY:Sunday Brunch\, Caz Farm Brewery
DESCRIPTION:Sunday plans? Solved. 🙌\nBrunch at Meier’s Creek is calling: killer plates\, cold pours\, zero stress.Bring your friends and make it a weekly ritual! \nBrunch menu available at the Caz Farm Brewery – Sundays 11am-4pm.\nWe seat first-come\, first-served. No reservations required.
URL:https://www.meierscreekbrewing.com/event/sunday-brunch-caz-farm-brewery/2026-06-14/
LOCATION:Cazenovia Farm Brewery
CATEGORIES:Local Events,Brunch
ATTACH;FMTTYPE=image/jpeg:https://www.meierscreekbrewing.com/wp-content/uploads/2025/11/1.jpg
END:VEVENT
BEGIN:VEVENT
DTSTART;TZID=America/New_York:20260614T113000
DTEND;TZID=America/New_York:20260614T160000
DTSTAMP:20260422T110410
CREATED:20251121T201800Z
LAST-MODIFIED:20251121T202643Z
UID:10002601-1781436600-1781452800@www.meierscreekbrewing.com
SUMMARY:Sunday Brunch\, Inner Harbor
DESCRIPTION:Sunday plans? Solved. 🙌\nBrunch at Meier’s Creek is calling: killer plates\, cold pours\, zero stress.Bring your friends and make it a weekly ritual! \nBrunch menu available at the Inner Harbor Taproom – Sundays 11:30am-4:00pm.\nWe seat first-come\, first-served. No reservations required.
URL:https://www.meierscreekbrewing.com/event/sunday-brunch-inner-harbor/2026-06-14/
LOCATION:Inner Harbor Taproom\, 720 Van Rensselaer St.\, Syracuse\, NY\, United States
CATEGORIES:Local Events,Brunch
ATTACH;FMTTYPE=image/jpeg:https://www.meierscreekbrewing.com/wp-content/uploads/2025/11/2.jpg
END:VEVENT
BEGIN:VEVENT
DTSTART;TZID=America/New_York:20260621T110000
DTEND;TZID=America/New_York:20260621T160000
DTSTAMP:20260422T110411
CREATED:20251121T202031Z
LAST-MODIFIED:20251121T202654Z
UID:10003124-1782039600-1782057600@www.meierscreekbrewing.com
SUMMARY:Sunday Brunch\, Caz Farm Brewery
DESCRIPTION:Sunday plans? Solved. 🙌\nBrunch at Meier’s Creek is calling: killer plates\, cold pours\, zero stress.Bring your friends and make it a weekly ritual! \nBrunch menu available at the Caz Farm Brewery – Sundays 11am-4pm.\nWe seat first-come\, first-served. No reservations required.
URL:https://www.meierscreekbrewing.com/event/sunday-brunch-caz-farm-brewery/2026-06-21/
LOCATION:Cazenovia Farm Brewery
CATEGORIES:Local Events,Brunch
ATTACH;FMTTYPE=image/jpeg:https://www.meierscreekbrewing.com/wp-content/uploads/2025/11/1.jpg
END:VEVENT
BEGIN:VEVENT
DTSTART;TZID=America/New_York:20260621T113000
DTEND;TZID=America/New_York:20260621T160000
DTSTAMP:20260422T110411
CREATED:20251121T201800Z
LAST-MODIFIED:20251121T202643Z
UID:10002602-1782041400-1782057600@www.meierscreekbrewing.com
SUMMARY:Sunday Brunch\, Inner Harbor
DESCRIPTION:Sunday plans? Solved. 🙌\nBrunch at Meier’s Creek is calling: killer plates\, cold pours\, zero stress.Bring your friends and make it a weekly ritual! \nBrunch menu available at the Inner Harbor Taproom – Sundays 11:30am-4:00pm.\nWe seat first-come\, first-served. No reservations required.
URL:https://www.meierscreekbrewing.com/event/sunday-brunch-inner-harbor/2026-06-21/
LOCATION:Inner Harbor Taproom\, 720 Van Rensselaer St.\, Syracuse\, NY\, United States
CATEGORIES:Local Events,Brunch
ATTACH;FMTTYPE=image/jpeg:https://www.meierscreekbrewing.com/wp-content/uploads/2025/11/2.jpg
END:VEVENT
BEGIN:VEVENT
DTSTART;TZID=America/New_York:20260628T110000
DTEND;TZID=America/New_York:20260628T160000
DTSTAMP:20260422T110411
CREATED:20251121T202031Z
LAST-MODIFIED:20251121T202654Z
UID:10003125-1782644400-1782662400@www.meierscreekbrewing.com
SUMMARY:Sunday Brunch\, Caz Farm Brewery
DESCRIPTION:Sunday plans? Solved. 🙌\nBrunch at Meier’s Creek is calling: killer plates\, cold pours\, zero stress.Bring your friends and make it a weekly ritual! \nBrunch menu available at the Caz Farm Brewery – Sundays 11am-4pm.\nWe seat first-come\, first-served. No reservations required.
URL:https://www.meierscreekbrewing.com/event/sunday-brunch-caz-farm-brewery/2026-06-28/
LOCATION:Cazenovia Farm Brewery
CATEGORIES:Local Events,Brunch
ATTACH;FMTTYPE=image/jpeg:https://www.meierscreekbrewing.com/wp-content/uploads/2025/11/1.jpg
END:VEVENT
BEGIN:VEVENT
DTSTART;TZID=America/New_York:20260628T113000
DTEND;TZID=America/New_York:20260628T160000
DTSTAMP:20260422T110411
CREATED:20251121T201800Z
LAST-MODIFIED:20251121T202643Z
UID:10002603-1782646200-1782662400@www.meierscreekbrewing.com
SUMMARY:Sunday Brunch\, Inner Harbor
DESCRIPTION:Sunday plans? Solved. 🙌\nBrunch at Meier’s Creek is calling: killer plates\, cold pours\, zero stress.Bring your friends and make it a weekly ritual! \nBrunch menu available at the Inner Harbor Taproom – Sundays 11:30am-4:00pm.\nWe seat first-come\, first-served. No reservations required.
URL:https://www.meierscreekbrewing.com/event/sunday-brunch-inner-harbor/2026-06-28/
LOCATION:Inner Harbor Taproom\, 720 Van Rensselaer St.\, Syracuse\, NY\, United States
CATEGORIES:Local Events,Brunch
ATTACH;FMTTYPE=image/jpeg:https://www.meierscreekbrewing.com/wp-content/uploads/2025/11/2.jpg
END:VEVENT
END:VCALENDAR